BEGIN:VCALENDAR
VERSION:2.0
PRODID:-//Golfclub Am Harrl e. V. - ECPv6.15.20//NONSGML v1.0//EN
CALSCALE:GREGORIAN
METHOD:PUBLISH
X-ORIGINAL-URL:https://golfclub.comon-server.de
X-WR-CALDESC:Veranstaltungen für Golfclub Am Harrl e. V.
REFRESH-INTERVAL;VALUE=DURATION:PT1H
X-Robots-Tag:noindex
X-PUBLISHED-TTL:PT1H
BEGIN:VTIMEZONE
TZID:Europe/Berlin
BEGIN:DAYLIGHT
TZOFFSETFROM:+0100
TZOFFSETTO:+0200
TZNAME:CEST
DTSTART:20260329T010000
END:DAYLIGHT
BEGIN:STANDARD
TZOFFSETFROM:+0200
TZOFFSETTO:+0100
TZNAME:CET
DTSTART:20261025T010000
END:STANDARD
BEGIN:DAYLIGHT
TZOFFSETFROM:+0100
TZOFFSETTO:+0200
TZNAME:CEST
DTSTART:20270328T010000
END:DAYLIGHT
BEGIN:STANDARD
TZOFFSETFROM:+0200
TZOFFSETTO:+0100
TZNAME:CET
DTSTART:20271031T010000
END:STANDARD
BEGIN:DAYLIGHT
TZOFFSETFROM:+0100
TZOFFSETTO:+0200
TZNAME:CEST
DTSTART:20280326T010000
END:DAYLIGHT
BEGIN:STANDARD
TZOFFSETFROM:+0200
TZOFFSETTO:+0100
TZNAME:CET
DTSTART:20281029T010000
END:STANDARD
END:VTIMEZONE
BEGIN:VEVENT
DTSTART;TZID=Europe/Berlin:20271205T110000
DTEND;TZID=Europe/Berlin:20271205T130000
DTSTAMP:20260420T003306
CREATED:20260306T124113Z
LAST-MODIFIED:20260409T130951Z
UID:10000104-1828004400-1828011600@golfclub.comon-server.de
SUMMARY:Schnupperkurs
DESCRIPTION:
URL:https://golfclub.comon-server.de/kurse-training/golf-schnupperkurse/
CATEGORIES:Schnupperkurs
END:VEVENT
BEGIN:VEVENT
DTSTART;TZID=Europe/Berlin:20271219T110000
DTEND;TZID=Europe/Berlin:20271219T130000
DTSTAMP:20260420T003306
CREATED:20260306T124113Z
LAST-MODIFIED:20260409T130951Z
UID:10000105-1829214000-1829221200@golfclub.comon-server.de
SUMMARY:Schnupperkurs
DESCRIPTION:
URL:https://golfclub.comon-server.de/kurse-training/golf-schnupperkurse/
CATEGORIES:Schnupperkurs
END:VEVENT
END:VCALENDAR